Package: a4Reporting Version: 1.57.0 Command: rm -rf a4Reporting.buildbin-libdir && mkdir a4Reporting.buildbin-libdir && F:\biocbuild\bbs-3.22-bioc\R\bin\R.exe CMD INSTALL --build --library=a4Reporting.buildbin-libdir a4Reporting_1.57.0.tar.gz StartedAt: 2025-08-15 09:41:08 -0400 (Fri, 15 Aug 2025) EndedAt: 2025-08-15 09:41:34 -0400 (Fri, 15 Aug 2025) EllapsedTime: 26.0 seconds RetCode: 0 Status: OK PackageFile: a4Reporting_1.57.0.zip PackageFileSize: 435.7 KiB