Package: a4Reporting Version: 1.56.0 Command: /Library/Frameworks/R.framework/Resources/bin/R CMD INSTALL a4Reporting StartedAt: 2025-10-13 15:06:17 -0400 (Mon, 13 Oct 2025) EndedAt: 2025-10-13 15:06:30 -0400 (Mon, 13 Oct 2025) EllapsedTime: 13.5 seconds RetCode: 0 Status: OK