Package: a4Reporting Version: 1.56.0 Command: /Library/Frameworks/R.framework/Resources/bin/R CMD check --install=check:a4Reporting.install-out.txt --library=/Library/Frameworks/R.framework/Resources/library --no-vignettes --timings a4Reporting_1.56.0.tar.gz StartedAt: 2025-10-13 23:49:44 -0400 (Mon, 13 Oct 2025) EndedAt: 2025-10-13 23:50:30 -0400 (Mon, 13 Oct 2025) EllapsedTime: 46.2 seconds RetCode: 0 Status: OK CheckDir: a4Reporting.Rcheck Warnings: 0