Package: a4Preproc Version: 1.58.0 Command: /home/biocbuild/bbs-3.22-bioc/R/bin/R CMD INSTALL a4Preproc StartedAt: 2025-11-20 16:02:29 -0500 (Thu, 20 Nov 2025) EndedAt: 2025-11-20 16:02:32 -0500 (Thu, 20 Nov 2025) EllapsedTime: 2.2 seconds RetCode: 0 Status: OK