Package: a4Preproc Version: 1.58.0 Command: /home/biocbuild/bbs-3.22-bioc/R/bin/R CMD build --keep-empty-dirs --no-resave-data --md5 a4Preproc StartedAt: 2025-11-17 19:20:04 -0500 (Mon, 17 Nov 2025) EndedAt: 2025-11-17 19:20:14 -0500 (Mon, 17 Nov 2025) EllapsedTime: 10.0 seconds RetCode: 0 Status: OK PackageFile: a4Preproc_1.58.0.tar.gz PackageFileSize: 288.7 KiB