Package: ZygosityPredictor Version: 1.9.1 Command: chmod a+r ZygosityPredictor -R && F:\biocbuild\bbs-3.22-bioc\R\bin\R.exe CMD build --keep-empty-dirs --no-resave-data ZygosityPredictor StartedAt: 2025-08-15 00:03:34 -0400 (Fri, 15 Aug 2025) EndedAt: 2025-08-15 00:04:53 -0400 (Fri, 15 Aug 2025) EllapsedTime: 78.9 seconds RetCode: 0 Status: OK PackageFile: ZygosityPredictor_1.9.1.tar.gz PackageFileSize: 825.9 KiB