Package: ZygosityPredictor Version: 1.9.1 Command: rm -rf ZygosityPredictor.buildbin-libdir && mkdir ZygosityPredictor.buildbin-libdir && F:\biocbuild\bbs-3.22-bioc\R\bin\R.exe CMD INSTALL --build --library=ZygosityPredictor.buildbin-libdir ZygosityPredictor_1.9.1.tar.gz StartedAt: 2025-08-15 11:36:43 -0400 (Fri, 15 Aug 2025) EndedAt: 2025-08-15 11:37:37 -0400 (Fri, 15 Aug 2025) EllapsedTime: 54.6 seconds RetCode: 0 Status: OK PackageFile: ZygosityPredictor_1.9.1.zip PackageFileSize: 985.4 KiB