Package: ZygosityPredictor Version: 1.10.0 Command: /Library/Frameworks/R.framework/Resources/bin/R CMD check --install=check:ZygosityPredictor.install-out.txt --library=/Library/Frameworks/R.framework/Resources/library --no-vignettes --timings ZygosityPredictor_1.10.0.tar.gz StartedAt: 2025-11-21 13:45:33 -0500 (Fri, 21 Nov 2025) EndedAt: 2025-11-21 13:51:45 -0500 (Fri, 21 Nov 2025) EllapsedTime: 372.2 seconds RetCode: 0 Status: OK CheckDir: ZygosityPredictor.Rcheck Warnings: 0