Package: ZygosityPredictor Version: 1.10.0 Command: rm -rf ZygosityPredictor.buildbin-libdir && mkdir ZygosityPredictor.buildbin-libdir && /Users/biocbuild/BBS/utils/build-universal.sh ZygosityPredictor_1.10.0.tar.gz /Library/Frameworks/R.framework/Resources/bin/R ZygosityPredictor.buildbin-libdir StartedAt: 2025-11-21 15:54:18 -0500 (Fri, 21 Nov 2025) EndedAt: 2025-11-21 15:55:21 -0500 (Fri, 21 Nov 2025) EllapsedTime: 62.9 seconds RetCode: 0 Status: OK PackageFile: ZygosityPredictor_1.10.0.tgz PackageFileSize: 981 KiB