Package: YAPSA Version: 1.36.0 Command: /home/biocbuild/bbs-3.22-bioc/R/bin/R CMD INSTALL YAPSA StartedAt: 2025-11-06 15:49:10 -0500 (Thu, 06 Nov 2025) EndedAt: 2025-11-06 15:50:11 -0500 (Thu, 06 Nov 2025) EllapsedTime: 61.6 seconds RetCode: 0 Status: OK