Package: Xeva Version: 1.24.0 Command: /home/biocbuild/bbs-3.21-bioc/R/bin/R CMD INSTALL Xeva StartedAt: 2025-10-15 15:37:40 -0400 (Wed, 15 Oct 2025) EndedAt: 2025-10-15 15:38:17 -0400 (Wed, 15 Oct 2025) EllapsedTime: 36.8 seconds RetCode: 0 Status: OK