Package: Xeva Version: 1.24.0 Command: /home/biocbuild/bbs-3.21-bioc/R/bin/R CMD check --install=check:Xeva.install-out.txt --library=/home/biocbuild/bbs-3.21-bioc/R/site-library --timings Xeva_1.24.0.tar.gz StartedAt: 2025-10-16 04:52:51 -0400 (Thu, 16 Oct 2025) EndedAt: 2025-10-16 04:57:40 -0400 (Thu, 16 Oct 2025) EllapsedTime: 288.9 seconds RetCode: 0 Status: OK CheckDir: Xeva.Rcheck Warnings: 0