Package: Xeva Version: 1.24.0 Command: /home/biocbuild/bbs-3.21-bioc/R/bin/R CMD build --keep-empty-dirs --no-resave-data Xeva StartedAt: 2025-10-15 20:33:08 -0400 (Wed, 15 Oct 2025) EndedAt: 2025-10-15 20:34:09 -0400 (Wed, 15 Oct 2025) EllapsedTime: 61.1 seconds RetCode: 0 Status: OK PackageFile: Xeva_1.24.0.tar.gz PackageFileSize: 1.574 MiB