Package: Xeva Version: 1.24.0 Command: /home/biocbuild/R/R/bin/R CMD INSTALL Xeva StartedAt: 2025-10-13 20:52:57 -0000 (Mon, 13 Oct 2025) EndedAt: 2025-10-13 20:53:49 -0000 (Mon, 13 Oct 2025) EllapsedTime: 52.3 seconds RetCode: 0 Status: OK