Package: Xeva Version: 1.24.0 Command: /home/biocbuild/R/R/bin/R CMD build --keep-empty-dirs --no-resave-data Xeva StartedAt: 2025-10-14 05:45:57 -0000 (Tue, 14 Oct 2025) EndedAt: 2025-10-14 05:47:21 -0000 (Tue, 14 Oct 2025) EllapsedTime: 84.1 seconds RetCode: 0 Status: OK PackageFile: Xeva_1.24.0.tar.gz PackageFileSize: 1.566 MiB