Package: XINA Version: 1.28.0 Command: /home/biocbuild/bbs-3.22-bioc/R/bin/R CMD check --install=check:XINA.install-out.txt --library=/home/biocbuild/bbs-3.22-bioc/R/site-library --timings XINA_1.28.0.tar.gz StartedAt: 2025-11-17 05:32:05 -0500 (Mon, 17 Nov 2025) EndedAt: 2025-11-17 05:34:39 -0500 (Mon, 17 Nov 2025) EllapsedTime: 153.1 seconds RetCode: 0 Status: WARNINGS CheckDir: XINA.Rcheck Warnings: 1