Package: XDE Version: 2.55.0 Command: chmod a+r XDE -R && F:\biocbuild\bbs-3.22-bioc\R\bin\R.exe CMD build --keep-empty-dirs --no-resave-data XDE StartedAt: 2025-08-15 00:01:38 -0400 (Fri, 15 Aug 2025) EndedAt: 2025-08-15 00:03:53 -0400 (Fri, 15 Aug 2025) EllapsedTime: 135.3 seconds RetCode: 0 Status: OK PackageFile: XDE_2.55.0.tar.gz PackageFileSize: 1.086 MiB