Package: VplotR Version: 1.20.0 Command: /home/biocbuild/bbs-3.22-bioc/R/bin/R CMD check --install=check:VplotR.install-out.txt --library=/home/biocbuild/bbs-3.22-bioc/R/site-library --timings VplotR_1.20.0.tar.gz StartedAt: 2025-11-07 05:15:48 -0500 (Fri, 07 Nov 2025) EndedAt: 2025-11-07 05:22:21 -0500 (Fri, 07 Nov 2025) EllapsedTime: 393.3 seconds RetCode: 0 Status: OK CheckDir: VplotR.Rcheck Warnings: 0