Package: Voyager Version: 1.10.0 Command: /Library/Frameworks/R.framework/Resources/bin/R CMD check --install=check:Voyager.install-out.txt --library=/Library/Frameworks/R.framework/Resources/library --no-vignettes --timings Voyager_1.10.0.tar.gz StartedAt: 2025-04-21 22:18:09 -0400 (Mon, 21 Apr 2025) EndedAt: 2025-04-21 22:23:14 -0400 (Mon, 21 Apr 2025) EllapsedTime: 305.0 seconds RetCode: 0 Status: WARNINGS CheckDir: Voyager.Rcheck Warnings: 1