Package: VisiumIO Version: 1.4.3 Command: rm -rf VisiumIO.buildbin-libdir && mkdir VisiumIO.buildbin-libdir && /Users/biocbuild/BBS/utils/build-universal.sh VisiumIO_1.4.3.tar.gz /Library/Frameworks/R.framework/Resources/bin/R VisiumIO.buildbin-libdir StartedAt: 2025-10-14 15:02:45 -0400 (Tue, 14 Oct 2025) EndedAt: 2025-10-14 15:04:04 -0400 (Tue, 14 Oct 2025) EllapsedTime: 79.1 seconds RetCode: 0 Status: OK PackageFile: VisiumIO_1.4.3.tgz PackageFileSize: 1.597 MiB