Package: ViSEAGO Version: 1.22.0 Maintainer: Aurelien Brionne MaintainerEmail: aurelien.brionne at inrae.fr git_url: https://git.bioconductor.org/packages/ViSEAGO git_branch: RELEASE_3_21 git_last_commit: 7d2965b git_last_commit_date: 2025-04-15 11:47:53 -0400 (Tue, 15 Apr 2025)