Package: VennDetail Version: 1.24.0 Command: /Library/Frameworks/R.framework/Resources/bin/R CMD build --keep-empty-dirs --no-resave-data VennDetail StartedAt: 2025-09-25 23:30:31 -0400 (Thu, 25 Sep 2025) EndedAt: 2025-09-25 23:31:02 -0400 (Thu, 25 Sep 2025) EllapsedTime: 31.0 seconds RetCode: 1 Status: ERROR PackageFile: None PackageFileSize: NA