Package: VennDetail Version: 1.24.0 Command: /Library/Frameworks/R.framework/Resources/bin/R CMD build --keep-empty-dirs --no-resave-data VennDetail StartedAt: 2025-04-21 18:49:41 -0400 (Mon, 21 Apr 2025) EndedAt: 2025-04-21 18:49:54 -0400 (Mon, 21 Apr 2025) EllapsedTime: 13.6 seconds RetCode: 1 Status: ERROR PackageFile: None PackageFileSize: NA