Package: VennDetail Version: 1.23.0 Command: rm -rf VennDetail.buildbin-libdir && mkdir VennDetail.buildbin-libdir && /Users/biocbuild/BBS/utils/build-universal.sh VennDetail_1.23.0.tar.gz /Library/Frameworks/R.framework/Resources/bin/R VennDetail.buildbin-libdir StartedAt: 2025-03-24 01:52:58 -0400 (Mon, 24 Mar 2025) EndedAt: 2025-03-24 01:53:09 -0400 (Mon, 24 Mar 2025) EllapsedTime: 11.4 seconds RetCode: 0 Status: OK PackageFile: VennDetail_1.23.0.tgz PackageFileSize: 503.6 KiB