Package: VennDetail Version: 1.24.0 Command: /home/biocbuild/R/R/bin/R CMD INSTALL VennDetail StartedAt: 2025-09-29 20:20:45 -0000 (Mon, 29 Sep 2025) EndedAt: 2025-09-29 20:20:53 -0000 (Mon, 29 Sep 2025) EllapsedTime: 7.2 seconds RetCode: 0 Status: OK