Package: VennDetail Version: 1.24.0 Command: /Library/Frameworks/R.framework/Resources/bin/R CMD build --keep-empty-dirs --no-resave-data VennDetail StartedAt: 2025-09-26 11:31:07 -0400 (Fri, 26 Sep 2025) EndedAt: 2025-09-26 11:31:23 -0400 (Fri, 26 Sep 2025) EllapsedTime: 16.0 seconds RetCode: 1 Status: ERROR PackageFile: None PackageFileSize: NA