Package: VegaMC Version: 3.46.0 Command: /Library/Frameworks/R.framework/Resources/bin/R CMD check --install=check:VegaMC.install-out.txt --library=/Library/Frameworks/R.framework/Resources/library --no-vignettes --timings VegaMC_3.46.0.tar.gz StartedAt: 2025-10-14 12:07:48 -0400 (Tue, 14 Oct 2025) EndedAt: 2025-10-14 12:11:32 -0400 (Tue, 14 Oct 2025) EllapsedTime: 224.5 seconds RetCode: 0 Status: WARNINGS CheckDir: VegaMC.Rcheck Warnings: 2