Package: VegaMC Version: 3.46.0 Command: /Library/Frameworks/R.framework/Resources/bin/R CMD check --install=check:VegaMC.install-out.txt --library=/Library/Frameworks/R.framework/Resources/library --no-vignettes --timings VegaMC_3.46.0.tar.gz StartedAt: 2025-04-22 00:17:55 -0400 (Tue, 22 Apr 2025) EndedAt: 2025-04-22 00:19:55 -0400 (Tue, 22 Apr 2025) EllapsedTime: 120.3 seconds RetCode: 0 Status: WARNINGS CheckDir: VegaMC.Rcheck Warnings: 2