Package: VariantExperiment Version: 1.24.0 Command: /Library/Frameworks/R.framework/Resources/bin/R CMD INSTALL VariantExperiment StartedAt: 2025-11-03 15:32:07 -0500 (Mon, 03 Nov 2025) EndedAt: 2025-11-03 15:32:41 -0500 (Mon, 03 Nov 2025) EllapsedTime: 33.5 seconds RetCode: 0 Status: OK