Package: VariantExperiment Version: 1.24.0 Maintainer: Qian Liu MaintainerEmail: Qian.Liu at roswellpark.org git_url: https://git.bioconductor.org/packages/VariantExperiment git_branch: RELEASE_3_22 git_last_commit: 4846558 git_last_commit_date: 2025-10-29 10:53:44 -0500 (Wed, 29 Oct 2025)