Package: VariantAnnotation Version: 1.56.0 Command: /home/biocbuild/bbs-3.22-bioc/R/bin/R CMD INSTALL VariantAnnotation StartedAt: 2025-11-10 15:45:25 -0500 (Mon, 10 Nov 2025) EndedAt: 2025-11-10 15:46:38 -0500 (Mon, 10 Nov 2025) EllapsedTime: 73.0 seconds RetCode: 0 Status: OK