Package: VanillaICE Version: 1.71.0 Command: rm -rf VanillaICE.buildbin-libdir && mkdir VanillaICE.buildbin-libdir && F:\biocbuild\bbs-3.22-bioc\R\bin\R.exe CMD INSTALL --build --library=VanillaICE.buildbin-libdir VanillaICE_1.71.0.tar.gz StartedAt: 2025-08-15 11:33:56 -0400 (Fri, 15 Aug 2025) EndedAt: 2025-08-15 11:36:44 -0400 (Fri, 15 Aug 2025) EllapsedTime: 167.2 seconds RetCode: 0 Status: OK PackageFile: VanillaICE_1.71.0.zip PackageFileSize: 2.724 MiB