Package: VanillaICE Version: 1.72.0 Command: /home/biocbuild/bbs-3.22-bioc/R/bin/R CMD INSTALL VanillaICE StartedAt: 2025-11-17 17:49:47 -0500 (Mon, 17 Nov 2025) EndedAt: 2025-11-17 17:50:23 -0500 (Mon, 17 Nov 2025) EllapsedTime: 36.3 seconds RetCode: 0 Status: OK