Package: VanillaICE Version: 1.72.0 Command: /home/biocbuild/bbs-3.22-bioc/R/bin/R CMD build --keep-empty-dirs --no-resave-data --md5 VanillaICE StartedAt: 2025-11-18 00:08:42 -0500 (Tue, 18 Nov 2025) EndedAt: 2025-11-18 00:09:41 -0500 (Tue, 18 Nov 2025) EllapsedTime: 59.0 seconds RetCode: 0 Status: OK PackageFile: VanillaICE_1.72.0.tar.gz PackageFileSize: 2.078 MiB