Package: VaSP Version: 1.22.0 Command: /home/biocbuild/R/R/bin/R CMD INSTALL VaSP StartedAt: 2025-11-17 21:37:09 -0000 (Mon, 17 Nov 2025) EndedAt: 2025-11-17 21:37:55 -0000 (Mon, 17 Nov 2025) EllapsedTime: 45.5 seconds RetCode: 0 Status: OK