Package: VaSP Version: 1.22.0 Command: /home/biocbuild/R/R/bin/R CMD build --keep-empty-dirs --no-resave-data VaSP StartedAt: 2025-11-18 06:02:44 -0000 (Tue, 18 Nov 2025) EndedAt: 2025-11-18 06:03:48 -0000 (Tue, 18 Nov 2025) EllapsedTime: 64.0 seconds RetCode: 0 Status: OK PackageFile: VaSP_1.22.0.tar.gz PackageFileSize: 8.456 MiB