Package: VDJdive Version: 1.10.0 Command: /Library/Frameworks/R.framework/Resources/bin/R CMD check --install=check:VDJdive.install-out.txt --library=/Library/Frameworks/R.framework/Resources/library --no-vignettes --timings VDJdive_1.10.0.tar.gz StartedAt: 2025-10-14 12:07:29 -0400 (Tue, 14 Oct 2025) EndedAt: 2025-10-14 12:15:26 -0400 (Tue, 14 Oct 2025) EllapsedTime: 477.0 seconds RetCode: 0 Status: OK CheckDir: VDJdive.Rcheck Warnings: 0