Package: VDJdive Version: 1.10.0 Command: rm -rf VDJdive.buildbin-libdir && mkdir VDJdive.buildbin-libdir && /Users/biocbuild/BBS/utils/build-universal.sh VDJdive_1.10.0.tar.gz /Library/Frameworks/R.framework/Resources/bin/R VDJdive.buildbin-libdir StartedAt: 2025-10-14 15:02:02 -0400 (Tue, 14 Oct 2025) EndedAt: 2025-10-14 15:03:22 -0400 (Tue, 14 Oct 2025) EllapsedTime: 79.7 seconds RetCode: 0 Status: OK PackageFile: VDJdive_1.10.0.tgz PackageFileSize: 873.7 KiB