Package: VDJdive Version: 1.10.0 Command: /home/biocbuild/R/R/bin/R CMD build --keep-empty-dirs --no-resave-data VDJdive StartedAt: 2025-10-14 05:38:46 -0000 (Tue, 14 Oct 2025) EndedAt: 2025-10-14 05:39:46 -0000 (Tue, 14 Oct 2025) EllapsedTime: 60.1 seconds RetCode: 0 Status: OK PackageFile: VDJdive_1.10.0.tar.gz PackageFileSize: 541.4 KiB