Package: VDJdive Version: 1.10.0 Command: rm -rf VDJdive.buildbin-libdir && mkdir VDJdive.buildbin-libdir && /Users/biocbuild/BBS/utils/build-universal.sh VDJdive_1.10.0.tar.gz /Library/Frameworks/R.framework/Resources/bin/R VDJdive.buildbin-libdir StartedAt: 2025-04-21 22:56:23 -0400 (Mon, 21 Apr 2025) EndedAt: 2025-04-21 22:56:35 -0400 (Mon, 21 Apr 2025) EllapsedTime: 11.3 seconds RetCode: 0 Status: OK PackageFile: VDJdive_1.10.0.tgz PackageFileSize: 878.1 KiB