| Back to Multiple platform build/check report for BioC 3.22: simplified long |
|
This page was generated on 2025-08-15 12:07 -0400 (Fri, 15 Aug 2025).
| Hostname | OS | Arch (*) | R version | Installed pkgs |
|---|---|---|---|---|
| nebbiolo2 | Linux (Ubuntu 24.04.3 LTS) | x86_64 | 4.5.1 (2025-06-13) -- "Great Square Root" | 4818 |
| palomino8 | Windows Server 2022 Datacenter | x64 | 4.5.1 (2025-06-13 ucrt) -- "Great Square Root" | 4554 |
| lconway | macOS 12.7.1 Monterey | x86_64 | 4.5.1 (2025-06-13) -- "Great Square Root" | 4595 |
| kjohnson3 | macOS 13.7.7 Ventura | arm64 | 4.5.1 Patched (2025-06-14 r88325) -- "Great Square Root" | 4537 |
| taishan | Linux (openEuler 24.03 LTS) | aarch64 | 4.5.0 (2025-04-11) -- "How About a Twenty-Six" | 4535 |
| Click on any hostname to see more info about the system (e.g. compilers) (*) as reported by 'uname -p', except on Windows and Mac OS X | ||||
| Package 2267/2317 | Hostname | OS / Arch | INSTALL | BUILD | CHECK | BUILD BIN | ||||||||
| VDJdive 1.11.0 (landing page) Kelly Street
| nebbiolo2 | Linux (Ubuntu 24.04.3 LTS) / x86_64 | OK | OK | OK | |||||||||
| palomino8 | Windows Server 2022 Datacenter / x64 | OK | OK | OK | OK | |||||||||
| lconway | macOS 12.7.1 Monterey / x86_64 | OK | OK | OK | OK | |||||||||
| kjohnson3 | macOS 13.7.7 Ventura / arm64 | OK | OK | OK | OK | |||||||||
| taishan | Linux (openEuler 24.03 LTS) / aarch64 | OK | OK | OK | ||||||||||
|
To the developers/maintainers of the VDJdive package: - Allow up to 24 hours (and sometimes 48 hours) for your latest push to git@git.bioconductor.org:packages/VDJdive.git to reflect on this report. See Troubleshooting Build Report for more information. - Use the following Renviron settings to reproduce errors and warnings. - If 'R CMD check' started to fail recently on the Linux builder(s) over a missing dependency, add the missing dependency to 'Suggests:' in your DESCRIPTION file. See Renviron.bioc for more information. |
| Package: VDJdive |
| Version: 1.11.0 |
| Command: F:\biocbuild\bbs-3.22-bioc\R\bin\R.exe CMD check --no-multiarch --install=check:VDJdive.install-out.txt --library=F:\biocbuild\bbs-3.22-bioc\R\library --no-vignettes --timings VDJdive_1.11.0.tar.gz |
| StartedAt: 2025-08-15 09:06:23 -0400 (Fri, 15 Aug 2025) |
| EndedAt: 2025-08-15 09:11:13 -0400 (Fri, 15 Aug 2025) |
| EllapsedTime: 290.1 seconds |
| RetCode: 0 |
| Status: OK |
| CheckDir: VDJdive.Rcheck |
| Warnings: 0 |
##############################################################################
##############################################################################
###
### Running command:
###
### F:\biocbuild\bbs-3.22-bioc\R\bin\R.exe CMD check --no-multiarch --install=check:VDJdive.install-out.txt --library=F:\biocbuild\bbs-3.22-bioc\R\library --no-vignettes --timings VDJdive_1.11.0.tar.gz
###
##############################################################################
##############################################################################
* using log directory 'F:/biocbuild/bbs-3.22-bioc/meat/VDJdive.Rcheck'
* using R version 4.5.1 (2025-06-13 ucrt)
* using platform: x86_64-w64-mingw32
* R was compiled by
gcc.exe (GCC) 14.2.0
GNU Fortran (GCC) 14.2.0
* running under: Windows Server 2022 x64 (build 20348)
* using session charset: UTF-8
* using option '--no-vignettes'
* checking for file 'VDJdive/DESCRIPTION' ... OK
* this is package 'VDJdive' version '1.11.0'
* package encoding: UTF-8
* checking package namespace information ... OK
* checking package dependencies ... OK
* checking if this is a source package ... OK
* checking if there is a namespace ... OK
* checking for hidden files and directories ... OK
* checking for portable file names ... OK
* checking whether package 'VDJdive' can be installed ... NOTE
Found the following notes/warnings:
Non-staged installation was used
See 'F:/biocbuild/bbs-3.22-bioc/meat/VDJdive.Rcheck/00install.out' for details.
* used C++ compiler: 'G__~1.EXE (GCC) 14.2.0'
* checking installed package size ... OK
* checking package directory ... OK
* checking 'build' directory ... OK
* checking DESCRIPTION meta-information ... OK
* checking top-level files ... OK
* checking for left-over files ... OK
* checking index information ... OK
* checking package subdirectories ... OK
* checking code files for non-ASCII characters ... OK
* checking R files for syntax errors ... OK
* checking whether the package can be loaded ... OK
* checking whether the package can be loaded with stated dependencies ... OK
* checking whether the package can be unloaded cleanly ... OK
* checking whether the namespace can be loaded with stated dependencies ... OK
* checking whether the namespace can be unloaded cleanly ... OK
* checking dependencies in R code ... OK
* checking S3 generic/method consistency ... OK
* checking replacement functions ... OK
* checking foreign function calls ... OK
* checking R code for possible problems ... NOTE
abundanceVDJ,clonoStats: no visible binding for global variable 'count'
abundanceVDJ,clonoStats: no visible binding for global variable 'y'
barVDJ,Matrix: no visible binding for global variable 'count'
boxVDJ,matrix: no visible binding for global variable 'group'
boxVDJ,matrix: no visible binding for global variable 'Diversity'
pieVDJ,Matrix: no visible binding for global variable 'count'
scatterVDJ,matrix: no visible binding for global variable 'clono'
scatterVDJ,matrix: no visible binding for global variable 'normentropy'
scatterVDJ,matrix: no visible binding for global variable 'sampleType'
Undefined global functions or variables:
Diversity clono count group normentropy sampleType y
* checking Rd files ... NOTE
checkRd: (-1) clonoStats.Rd:98-102: Lost braces in \itemize; meant \describe ?
checkRd: (-1) clonoStats.Rd:103-105: Lost braces in \itemize; meant \describe ?
checkRd: (-1) clonoStats.Rd:106-107: Lost braces in \itemize; meant \describe ?
checkRd: (-1) clonoStats.Rd:108-111: Lost braces in \itemize; meant \describe ?
checkRd: (-1) clonoStats.Rd:112-114: Lost braces in \itemize; meant \describe ?
* checking Rd metadata ... OK
* checking Rd cross-references ... NOTE
Found the following Rd file(s) with Rd \link{} targets missing package
anchors:
clonoStats.Rd: BiocParallelParam-class
summarizeClonotypes.Rd: BiocParallelParam-class
Please provide package anchors for all Rd \link{} targets not in the
package itself and the base packages.
* checking for missing documentation entries ... OK
* checking for code/documentation mismatches ... OK
* checking Rd \usage sections ... OK
* checking Rd contents ... OK
* checking for unstated dependencies in examples ... OK
* checking contents of 'data' directory ... OK
* checking data for non-ASCII characters ... OK
* checking data for ASCII and uncompressed saves ... OK
* checking line endings in C/C++/Fortran sources/headers ... OK
* checking compiled code ... NOTE
Note: information on .o files for x64 is not available
File 'F:/biocbuild/bbs-3.22-bioc/R/library/VDJdive/libs/x64/VDJdive.dll':
Found '_exit', possibly from '_exit' (C)
Found 'abort', possibly from 'abort' (C), 'runtime' (Fortran)
Found 'exit', possibly from 'exit' (C), 'stop' (Fortran)
Compiled code should not call entry points which might terminate R nor
write to stdout/stderr instead of to the console, nor use Fortran I/O
nor system RNGs nor [v]sprintf. The detected symbols are linked into
the code but might come from libraries and not actually be called.
See 'Writing portable packages' in the 'Writing R Extensions' manual.
* checking files in 'vignettes' ... OK
* checking examples ... OK
* checking for unstated dependencies in 'tests' ... OK
* checking tests ...
Running 'testthat.R'
OK
* checking for unstated dependencies in vignettes ... OK
* checking package vignettes ... OK
* checking running R code from vignettes ... SKIPPED
* checking re-building of vignette outputs ... SKIPPED
* checking PDF version of manual ... OK
* DONE
Status: 5 NOTEs
See
'F:/biocbuild/bbs-3.22-bioc/meat/VDJdive.Rcheck/00check.log'
for details.
VDJdive.Rcheck/00install.out
############################################################################## ############################################################################## ### ### Running command: ### ### F:\biocbuild\bbs-3.22-bioc\R\bin\R.exe CMD INSTALL VDJdive ### ############################################################################## ############################################################################## * installing to library 'F:/biocbuild/bbs-3.22-bioc/R/library' * installing *source* package 'VDJdive' ... ** this is package 'VDJdive' version '1.11.0' ** using non-staged installation via StagedInstall field ** libs using C++ compiler: 'G__~1.EXE (GCC) 14.2.0' g++ -std=gnu++17 -I"F:/biocbuild/bbs-3.22-bioc/R/include" -DNDEBUG -I'F:/biocbuild/bbs-3.22-bioc/R/library/Rcpp/include' -I"C:/rtools45/x86_64-w64-mingw32.static.posix/include" -O2 -Wall -mfpmath=sse -msse2 -mstackrealign -c RcppExports.cpp -o RcppExports.o g++ -std=gnu++17 -I"F:/biocbuild/bbs-3.22-bioc/R/include" -DNDEBUG -I'F:/biocbuild/bbs-3.22-bioc/R/library/Rcpp/include' -I"C:/rtools45/x86_64-w64-mingw32.static.posix/include" -O2 -Wall -mfpmath=sse -msse2 -mstackrealign -c TCR_EM.cpp -o TCR_EM.o g++ -std=gnu++17 -shared -s -static-libgcc -o VDJdive.dll tmp.def RcppExports.o TCR_EM.o -LC:/rtools45/x86_64-w64-mingw32.static.posix/lib/x64 -LC:/rtools45/x86_64-w64-mingw32.static.posix/lib -LF:/biocbuild/bbs-3.22-bioc/R/bin/x64 -lR installing to F:/biocbuild/bbs-3.22-bioc/R/library/VDJdive/libs/x64 ** R ** data ** inst ** byte-compile and prepare package for lazy loading ** help *** installing help indices *** copying figures ** building package indices ** installing vignettes ** testing if installed package can be loaded * DONE (VDJdive)
VDJdive.Rcheck/tests/testthat.Rout
R version 4.5.1 (2025-06-13 ucrt) -- "Great Square Root"
Copyright (C) 2025 The R Foundation for Statistical Computing
Platform: x86_64-w64-mingw32/x64
R is free software and comes with ABSOLUTELY NO WARRANTY.
You are welcome to redistribute it under certain conditions.
Type 'license()' or 'licence()' for distribution details.
R is a collaborative project with many contributors.
Type 'contributors()' for more information and
'citation()' on how to cite R or R packages in publications.
Type 'demo()' for some demos, 'help()' for on-line help, or
'help.start()' for an HTML browser interface to help.
Type 'q()' to quit R.
> library(testthat)
> library(VDJdive)
>
> test_check("VDJdive")
An object of class "clonoStats"
clonotypes: 7
cells: 24
groups(2): sample1 sample2
has assignment: FALSEAn object of class "clonoStats"
clonotypes: 7
cells: 24
groups(2): sample1 sample2
has assignment: TRUE[ FAIL 0 | WARN 0 | SKIP 0 | PASS 125 ]
>
> proc.time()
user system elapsed
38.46 1.31 39.79
VDJdive.Rcheck/VDJdive-Ex.timings
| name | user | system | elapsed | |
| abundanceVDJ | 1.31 | 0.06 | 1.37 | |
| addVDJtoSCE | 0.23 | 0.02 | 0.25 | |
| barVDJ | 1.00 | 0.05 | 1.05 | |
| boxVDJ | 1.59 | 0.00 | 1.60 | |
| calculateDiversity | 0.73 | 0.00 | 0.74 | |
| clonoStats-class | 0.63 | 0.00 | 0.62 | |
| clonoStats | 0.58 | 0.00 | 0.58 | |
| contigs | 0.7 | 0.0 | 0.7 | |
| pieVDJ | 1.20 | 0.02 | 1.22 | |
| readVDJcontigs | 0.07 | 0.01 | 0.11 | |
| runBreakaway | 2.56 | 0.19 | 3.02 | |
| runVDJPCA | 0.89 | 0.02 | 0.90 | |
| scatterVDJ | 1.11 | 0.00 | 1.11 | |
| splitClonotypes | 1.84 | 0.01 | 1.88 | |
| summarizeClonotypes | 0.91 | 0.11 | 1.01 | |
| writeVDJcontigs | 0.06 | 0.00 | 0.06 | |