Package: VAExprs Version: 1.15.0 Command: chmod a+r VAExprs -R && F:\biocbuild\bbs-3.22-bioc\R\bin\R.exe CMD build --keep-empty-dirs --no-resave-data VAExprs StartedAt: 2025-08-14 23:55:21 -0400 (Thu, 14 Aug 2025) EndedAt: 2025-08-14 23:56:11 -0400 (Thu, 14 Aug 2025) EllapsedTime: 49.9 seconds RetCode: 0 Status: OK PackageFile: VAExprs_1.15.0.tar.gz PackageFileSize: 562 KiB