Package: VAExprs Version: 1.16.0 Command: /home/biocbuild/bbs-3.22-bioc/R/bin/R CMD INSTALL VAExprs StartedAt: 2025-11-14 15:58:58 -0500 (Fri, 14 Nov 2025) EndedAt: 2025-11-14 15:59:34 -0500 (Fri, 14 Nov 2025) EllapsedTime: 35.9 seconds RetCode: 0 Status: OK