Package: VAExprs Version: 1.16.0 Command: /home/biocbuild/bbs-3.22-bioc/R/bin/R CMD build --keep-empty-dirs --no-resave-data --md5 VAExprs StartedAt: 2025-11-14 20:48:29 -0500 (Fri, 14 Nov 2025) EndedAt: 2025-11-14 20:49:06 -0500 (Fri, 14 Nov 2025) EllapsedTime: 37.0 seconds RetCode: 0 Status: OK PackageFile: VAExprs_1.16.0.tar.gz PackageFileSize: 562.5 KiB