Package: VAExprs Version: 1.16.0 Command: /Library/Frameworks/R.framework/Resources/bin/R CMD check --install=check:VAExprs.install-out.txt --library=/Library/Frameworks/R.framework/Resources/library --no-vignettes --timings VAExprs_1.16.0.tar.gz StartedAt: 2025-11-10 22:56:52 -0500 (Mon, 10 Nov 2025) EndedAt: 2025-11-10 22:58:27 -0500 (Mon, 10 Nov 2025) EllapsedTime: 95.1 seconds RetCode: 0 Status: OK CheckDir: VAExprs.Rcheck Warnings: 0