Package: VAExprs Version: 1.16.0 Command: rm -rf VAExprs.buildbin-libdir && mkdir VAExprs.buildbin-libdir && /Users/biocbuild/BBS/utils/build-universal.sh VAExprs_1.16.0.tar.gz /Library/Frameworks/R.framework/Resources/bin/R VAExprs.buildbin-libdir StartedAt: 2025-11-10 23:40:32 -0500 (Mon, 10 Nov 2025) EndedAt: 2025-11-10 23:40:47 -0500 (Mon, 10 Nov 2025) EllapsedTime: 15.3 seconds RetCode: 0 Status: OK PackageFile: VAExprs_1.16.0.tgz PackageFileSize: 241.6 KiB