Package: UPDhmm Version: 1.4.0 Command: /home/biocbuild/bbs-3.21-bioc/R/bin/R CMD check --install=check:UPDhmm.install-out.txt --library=/home/biocbuild/bbs-3.21-bioc/R/site-library --timings UPDhmm_1.4.0.tar.gz StartedAt: 2025-10-16 04:41:28 -0400 (Thu, 16 Oct 2025) EndedAt: 2025-10-16 04:42:25 -0400 (Thu, 16 Oct 2025) EllapsedTime: 57.1 seconds RetCode: 0 Status: WARNINGS CheckDir: UPDhmm.Rcheck Warnings: 1