Package: UPDhmm Version: 1.4.0 Command: /home/biocbuild/bbs-3.21-bioc/R/bin/R CMD build --keep-empty-dirs --no-resave-data UPDhmm StartedAt: 2025-10-15 20:26:48 -0400 (Wed, 15 Oct 2025) EndedAt: 2025-10-15 20:26:49 -0400 (Wed, 15 Oct 2025) EllapsedTime: 1.0 seconds RetCode: 0 Status: OK PackageFile: UPDhmm_1.4.0.tar.gz PackageFileSize: 240 KiB