Package: UPDhmm Version: 1.4.0 Command: /Library/Frameworks/R.framework/Resources/bin/R CMD INSTALL UPDhmm StartedAt: 2025-10-13 16:13:03 -0400 (Mon, 13 Oct 2025) EndedAt: 2025-10-13 16:13:07 -0400 (Mon, 13 Oct 2025) EllapsedTime: 4.4 seconds RetCode: 0 Status: OK