Package: UPDhmm Version: 1.4.0 Command: /Library/Frameworks/R.framework/Resources/bin/R CMD INSTALL UPDhmm StartedAt: 2025-10-13 17:19:46 -0400 (Mon, 13 Oct 2025) EndedAt: 2025-10-13 17:19:48 -0400 (Mon, 13 Oct 2025) EllapsedTime: 2.3 seconds RetCode: 0 Status: OK